BEGIN:VCALENDAR
VERSION:2.0
PRODID:-//Centacare - ECPv4.5.7//NONSGML v1.0//EN
CALSCALE:GREGORIAN
METHOD:PUBLISH
X-WR-CALNAME:Centacare
X-ORIGINAL-URL:http://www.centacare.org.au
X-WR-CALDESC:Events for Centacare
BEGIN:VEVENT
DTSTART;TZID=UTC+9.5:20170308T183000
DTEND;TZID=UTC+9.5:20170308T200000
DTSTAMP:20200229T123206
CREATED:20161221T003743Z
LAST-MODIFIED:20161221T013401Z
UID:2224-1488997800-1489003200@www.centacare.org.au
SUMMARY:Inside Their Heads
DESCRIPTION:‘Inside Their Heads’ draws on course content for the ‘Inside Her Head’ and ‘Inside His Head’ courses. Addresses the difficulties in families around adult/teen relationships\, development of self-concept and self-esteem in the pre-teen/teen years. Strong connectivity before and during adolescence is a protective factor against early sexual activity\, schooling problems and social problems. Call 08 8210 8200 to book – Bookings are essential \n
URL:http://www.centacare.org.au/course/inside-their-heads-2/
LOCATION:33 Wakefield Street\, Adelaide\, SA\, 5000\, Australia
CATEGORIES:Family
ORGANIZER;CN="Centacare":MAILTO:enquiries@centacare.org.au
END:VEVENT
END:VCALENDAR