BEGIN:VCALENDAR
VERSION:2.0
PRODID:-//Centacare - ECPv4.5.7//NONSGML v1.0//EN
CALSCALE:GREGORIAN
METHOD:PUBLISH
X-WR-CALNAME:Centacare
X-ORIGINAL-URL:http://www.centacare.org.au
X-WR-CALDESC:Events for Centacare
BEGIN:VEVENT
DTSTART;TZID=UTC+9.5:20170307T093000
DTEND;TZID=UTC+9.5:20170307T123000
DTSTAMP:20200229T123132
CREATED:20161221T012459Z
LAST-MODIFIED:20161221T012459Z
UID:2219-1488879000-1488889800@www.centacare.org.au
SUMMARY:Mum’s House/Dad’s House
DESCRIPTION:MHDH is a workshop for separated parents wanting to understand and manage the changes in their family. It enables parents to share with others what is different now that their family has changed\, learn what their children need\, how to communicate respectfully with the other parents\, identify what gets in the way of working with the other parent and understand development needs of children. This three hour workshop is for separated or divorced parents. The focus of this session is on supporting children through this challenging time and explores ways in which parents can do this positively. This program is orientated towards the needs of children and focuses on parenting. It is not designed for adults to resolve their personal experiences of grief or anger related to the end of their relationship. Call 08 8210 8200 to book – Bookings are essential \n
URL:http://www.centacare.org.au/course/mums-housedads-house-18/
LOCATION:Unit 6/2 Sturt Reserve Road\, Murray Bridge\, South Australia\, 5253\, Australia
CATEGORIES:Family
ORGANIZER;CN="Centacare":MAILTO:enquiries@centacare.org.au
END:VEVENT
END:VCALENDAR